BEGIN:VCALENDAR
VERSION:2.0
PRODID:-//Ewelme Parish Council//Meeting Calendar//EN
CALSCALE:GREGORIAN
METHOD:PUBLISH
BEGIN:VEVENT
UID:72149-20260513@ewelmeparishcouncil.gov.uk
DTSTAMP:20260425T143331Z
DTSTART;VALUE=DATE:20260513
DTEND;VALUE=DATE:20260514
SUMMARY:Annual Parish Meeting &#8211\\; 13th May 2026
DESCRIPTION:Annual Parish Meeting\nView details: https://ewelmeparishcouncil.gov.uk/meetings/annual-parish-meeting/
URL:https://ewelmeparishcouncil.gov.uk/meetings/annual-parish-meeting/
END:VEVENT
END:VCALENDAR
